BEGIN:VCALENDAR
VERSION:2.0
PRODID:-//Bournemouth Colosseum - ECPv6.15.20//NONSGML v1.0//EN
CALSCALE:GREGORIAN
METHOD:PUBLISH
X-ORIGINAL-URL:https://bournemouthcolosseum.com
X-WR-CALDESC:Events for Bournemouth Colosseum
REFRESH-INTERVAL;VALUE=DURATION:PT1H
X-Robots-Tag:noindex
X-PUBLISHED-TTL:PT1H
BEGIN:VTIMEZONE
TZID:Europe/London
BEGIN:DAYLIGHT
TZOFFSETFROM:+0000
TZOFFSETTO:+0100
TZNAME:BST
DTSTART:20240331T010000
END:DAYLIGHT
BEGIN:STANDARD
TZOFFSETFROM:+0100
TZOFFSETTO:+0000
TZNAME:GMT
DTSTART:20241027T010000
END:STANDARD
BEGIN:DAYLIGHT
TZOFFSETFROM:+0000
TZOFFSETTO:+0100
TZNAME:BST
DTSTART:20250330T010000
END:DAYLIGHT
BEGIN:STANDARD
TZOFFSETFROM:+0100
TZOFFSETTO:+0000
TZNAME:GMT
DTSTART:20251026T010000
END:STANDARD
BEGIN:DAYLIGHT
TZOFFSETFROM:+0000
TZOFFSETTO:+0100
TZNAME:BST
DTSTART:20260329T010000
END:DAYLIGHT
BEGIN:STANDARD
TZOFFSETFROM:+0100
TZOFFSETTO:+0000
TZNAME:GMT
DTSTART:20261025T010000
END:STANDARD
END:VTIMEZONE
BEGIN:VEVENT
DTSTART;TZID=Europe/London:20251101T150000
DTEND;TZID=Europe/London:20251101T150000
DTSTAMP:20260419T234943
CREATED:20251029T213255Z
LAST-MODIFIED:20251029T213255Z
UID:10000945-1762009200-1762009200@bournemouthcolosseum.com
SUMMARY:International Rugby - England v Australia
DESCRIPTION:International Rugby – England v Australia\nFree entry \n\n 
URL:https://bournemouthcolosseum.com/event/international-rugby-england-v-australia/
LOCATION:Colosseum Cinema Westbourne\, 14 The Arcade\, Bournemouth\, Dorset\, BH4 9AY\, United Kingdom
CATEGORIES:November
END:VEVENT
BEGIN:VEVENT
DTSTART;TZID=Europe/London:20251102T180000
DTEND;TZID=Europe/London:20251102T180000
DTSTAMP:20260419T234943
CREATED:20251029T213349Z
LAST-MODIFIED:20251029T213349Z
UID:10000946-1762106400-1762106400@bournemouthcolosseum.com
SUMMARY:Weapons (2025) - (18)
DESCRIPTION:Weapons (2025)\nHorror/Mystery –  2 hr 8 mins \n\nWatch trailer \nBook tickets.
URL:https://bournemouthcolosseum.com/event/weapons-2025-18-2/
LOCATION:Colosseum Cinema Westbourne\, 14 The Arcade\, Bournemouth\, Dorset\, BH4 9AY\, United Kingdom
CATEGORIES:November
ATTACH;FMTTYPE=image/webp:https://bournemouthcolosseum.com/wp-content/uploads/2025/09/Weapons-2025-e1759262179958.webp
END:VEVENT
BEGIN:VEVENT
DTSTART;TZID=Europe/London:20251105T200000
DTEND;TZID=Europe/London:20251105T200000
DTSTAMP:20260419T234943
CREATED:20251029T213837Z
LAST-MODIFIED:20251029T214320Z
UID:10000947-1762372800-1762372800@bournemouthcolosseum.com
SUMMARY:Hallow Road (2025) - (15)
DESCRIPTION:Hallow Road (2025)\nThriller –  1 hr 20 mins \n\nWatch trailer \nBook tickets.
URL:https://bournemouthcolosseum.com/event/hallow-road-2025-15/
LOCATION:Colosseum Cinema Westbourne\, 14 The Arcade\, Bournemouth\, Dorset\, BH4 9AY\, United Kingdom
CATEGORIES:November
ATTACH;FMTTYPE=image/jpeg:https://bournemouthcolosseum.com/wp-content/uploads/2025/10/Hallow-Road-2025-scaled-e1761773852743.jpg
END:VEVENT
BEGIN:VEVENT
DTSTART;TZID=Europe/London:20251106T190000
DTEND;TZID=Europe/London:20251106T190000
DTSTAMP:20260419T234943
CREATED:20251029T214206Z
LAST-MODIFIED:20251029T214206Z
UID:10000948-1762455600-1762455600@bournemouthcolosseum.com
SUMMARY:Supper club night - Deep Cover (2025) - (15)
DESCRIPTION:Supper club night – Deep Cover (2025) – (15)\nCrime/Comedy – (1 hr 49 mins) \nOpen at 7pm. Chez Fred Fish & Chips then settle down for the movie about 8pm. \nWatch trailer\nAdvanced booking only – Book now.\n\n 
URL:https://bournemouthcolosseum.com/event/supper-club-night-deep-cover-2025-15/
LOCATION:Colosseum Cinema Westbourne\, 14 The Arcade\, Bournemouth\, Dorset\, BH4 9AY\, United Kingdom
CATEGORIES:November
ATTACH;FMTTYPE=image/webp:https://bournemouthcolosseum.com/wp-content/uploads/2025/10/Deep-Cover-2025-e1761773820154.webp
END:VEVENT
BEGIN:VEVENT
DTSTART;TZID=Europe/London:20251107T200000
DTEND;TZID=Europe/London:20251107T200000
DTSTAMP:20260419T234943
CREATED:20251029T214519Z
LAST-MODIFIED:20251029T214519Z
UID:10000949-1762545600-1762545600@bournemouthcolosseum.com
SUMMARY:A House of Dynamite (2025) - (15)
DESCRIPTION:A House of Dynamite (2025)\nThriller/Drama –  1 hr 52 mins \n\nWatch trailer \nBook tickets.
URL:https://bournemouthcolosseum.com/event/a-house-of-dynamite-2025-15/
LOCATION:Colosseum Cinema Westbourne\, 14 The Arcade\, Bournemouth\, Dorset\, BH4 9AY\, United Kingdom
CATEGORIES:November
ATTACH;FMTTYPE=image/webp:https://bournemouthcolosseum.com/wp-content/uploads/2025/10/A-House-of-Dynamite-2025-e1761773789347.webp
END:VEVENT
BEGIN:VEVENT
DTSTART;TZID=Europe/London:20251108T170000
DTEND;TZID=Europe/London:20251108T170000
DTSTAMP:20260419T234943
CREATED:20251029T215243Z
LAST-MODIFIED:20251029T215243Z
UID:10000953-1762621200-1762621200@bournemouthcolosseum.com
SUMMARY:International Rugby - England v Fiji
DESCRIPTION:International Rugby – England v Fiji\nFree entry \n\n 
URL:https://bournemouthcolosseum.com/event/international-rugby-england-v-fiji/
LOCATION:Colosseum Cinema Westbourne\, 14 The Arcade\, Bournemouth\, Dorset\, BH4 9AY\, United Kingdom
CATEGORIES:November
END:VEVENT
BEGIN:VEVENT
DTSTART;TZID=Europe/London:20251109T150000
DTEND;TZID=Europe/London:20251109T150000
DTSTAMP:20260419T234943
CREATED:20251029T215348Z
LAST-MODIFIED:20251029T215429Z
UID:10000954-1762700400-1762700400@bournemouthcolosseum.com
SUMMARY:International Rugby - Wales v Argentina
DESCRIPTION:International Rugby – Wales v Argentina\nFree entry \n\n 
URL:https://bournemouthcolosseum.com/event/international-rugby-england-v-argentina/
LOCATION:Colosseum Cinema Westbourne\, 14 The Arcade\, Bournemouth\, Dorset\, BH4 9AY\, United Kingdom
CATEGORIES:November
END:VEVENT
BEGIN:VEVENT
DTSTART;TZID=Europe/London:20251112T200000
DTEND;TZID=Europe/London:20251112T200000
DTSTAMP:20260419T234943
CREATED:20251029T214708Z
LAST-MODIFIED:20251029T214708Z
UID:10000950-1762977600-1762977600@bournemouthcolosseum.com
SUMMARY:The Colour of Pomegranate (1969) - (PG)
DESCRIPTION:The Colour of Pomegranate (1969)\nThriller –  1 hr 19 mins \n\nWatch trailer \nBook tickets.
URL:https://bournemouthcolosseum.com/event/the-colour-of-pomegranate-1969-pg/
LOCATION:Colosseum Cinema Westbourne\, 14 The Arcade\, Bournemouth\, Dorset\, BH4 9AY\, United Kingdom
CATEGORIES:November
ATTACH;FMTTYPE=image/jpeg:https://bournemouthcolosseum.com/wp-content/uploads/2025/10/The-Colour-of-Pomegranates-1969-e1761773880358.jpg
END:VEVENT
BEGIN:VEVENT
DTSTART;TZID=Europe/London:20251113T190000
DTEND;TZID=Europe/London:20251113T190000
DTSTAMP:20260419T234943
CREATED:20251029T214941Z
LAST-MODIFIED:20251029T214941Z
UID:10000951-1763060400-1763060400@bournemouthcolosseum.com
SUMMARY:Supper club night - Downton Abbey - The Grand Finale (2025) - (PG)
DESCRIPTION:Supper club night – The Grand Finale (2025) – (PG)\nRomance/Drama – (2 hr 3 mins) \nOpen at 7pm. Chez Fred Fish & Chips then settle down for the movie about 8pm. \nWatch trailer\nAdvanced booking only – Book now.\n\n 
URL:https://bournemouthcolosseum.com/event/supper-club-night-downton-abbey-the-grand-finale-2025-pg/
LOCATION:Colosseum Cinema Westbourne\, 14 The Arcade\, Bournemouth\, Dorset\, BH4 9AY\, United Kingdom
CATEGORIES:November
ATTACH;FMTTYPE=image/jpeg:https://bournemouthcolosseum.com/wp-content/uploads/2025/10/Downton-Abbey-The-Grand-Finale-2025-e1761773839534.jpg
END:VEVENT
BEGIN:VEVENT
DTSTART;TZID=Europe/London:20251114T200000
DTEND;TZID=Europe/London:20251114T200000
DTSTAMP:20260419T234943
CREATED:20251029T215129Z
LAST-MODIFIED:20251029T220221Z
UID:10000952-1763150400-1763150400@bournemouthcolosseum.com
SUMMARY:Midnight Taxi (2024)
DESCRIPTION:Midnight Taxi (2024)\n1 hr 37 mins \n\nWatch trailer \nBook tickets.
URL:https://bournemouthcolosseum.com/event/midnight-taxi-2024/
LOCATION:Colosseum Cinema Westbourne\, 14 The Arcade\, Bournemouth\, Dorset\, BH4 9AY\, United Kingdom
CATEGORIES:November
ATTACH;FMTTYPE=image/jpeg:https://bournemouthcolosseum.com/wp-content/uploads/2025/10/Midnight-Taxi-2024-e1761773865804.jpg
END:VEVENT
BEGIN:VEVENT
DTSTART;TZID=Europe/London:20251115T200000
DTEND;TZID=Europe/London:20251115T200000
DTSTAMP:20260419T234943
CREATED:20251029T215629Z
LAST-MODIFIED:20251029T215907Z
UID:10000955-1763236800-1763236800@bournemouthcolosseum.com
SUMMARY:International Rugby - England v New Zealand
DESCRIPTION:International Rugby – England v New Zealand\nFree entry \n\n 
URL:https://bournemouthcolosseum.com/event/international-rugby-england-v-new-zealand/
LOCATION:Colosseum Cinema Westbourne\, 14 The Arcade\, Bournemouth\, Dorset\, BH4 9AY\, United Kingdom
CATEGORIES:November
END:VEVENT
BEGIN:VEVENT
DTSTART;TZID=Europe/London:20251119T200000
DTEND;TZID=Europe/London:20251119T200000
DTSTAMP:20260419T234943
CREATED:20251030T194623Z
LAST-MODIFIED:20251030T195130Z
UID:10000956-1763582400-1763582400@bournemouthcolosseum.com
SUMMARY:The Way Back (2010) - (12)
DESCRIPTION:The Way Back (2010)\nWar/Adventure   2 hr 13 mins \n\nWatch trailer \nBook tickets.
URL:https://bournemouthcolosseum.com/event/the-way-back-2010-12/
LOCATION:Colosseum Cinema Westbourne\, 14 The Arcade\, Bournemouth\, Dorset\, BH4 9AY\, United Kingdom
CATEGORIES:November
ATTACH;FMTTYPE=image/jpeg:https://bournemouthcolosseum.com/wp-content/uploads/2025/10/The_Way_Back_Poster-e1761853558668.jpg
END:VEVENT
BEGIN:VEVENT
DTSTART;TZID=Europe/London:20251120T190000
DTEND;TZID=Europe/London:20251120T190000
DTSTAMP:20260419T234943
CREATED:20251030T195025Z
LAST-MODIFIED:20251030T195134Z
UID:10000957-1763665200-1763665200@bournemouthcolosseum.com
SUMMARY:Supper club night - Four Letters of Love (2025) - (12)
DESCRIPTION:Supper club night – Four Letters of Love (2025)\nRomance/Fantasy – (2 hr 5 mins) \nOpen at 7pm. Chez Fred Fish & Chips then settle down for the movie about 8pm. \nWatch trailer\nAdvanced booking only – Book now.\n\n 
URL:https://bournemouthcolosseum.com/event/supper-club-night-four-letters-of-love-2025-12/
LOCATION:Colosseum Cinema Westbourne\, 14 The Arcade\, Bournemouth\, Dorset\, BH4 9AY\, United Kingdom
CATEGORIES:November
ATTACH;FMTTYPE=image/jpeg:https://bournemouthcolosseum.com/wp-content/uploads/2025/10/fourlettersoflove-e1761853705868.jpg
END:VEVENT
BEGIN:VEVENT
DTSTART;TZID=Europe/London:20251121T200000
DTEND;TZID=Europe/London:20251121T200000
DTSTAMP:20260419T234943
CREATED:20251030T195354Z
LAST-MODIFIED:20251030T195447Z
UID:10000958-1763755200-1763755200@bournemouthcolosseum.com
SUMMARY:The Hill (2023) - (PG)
DESCRIPTION:The Hill (2023)\nSport/Drama  2 hr 2 mins \n\nWatch trailer \nBook tickets.
URL:https://bournemouthcolosseum.com/event/the-hill-2023-pg/
LOCATION:Colosseum Cinema Westbourne\, 14 The Arcade\, Bournemouth\, Dorset\, BH4 9AY\, United Kingdom
CATEGORIES:November
ATTACH;FMTTYPE=image/jpeg:https://bournemouthcolosseum.com/wp-content/uploads/2025/10/The_Hill-2023-e1761854023847.jpg
END:VEVENT
BEGIN:VEVENT
DTSTART;TZID=Europe/London:20251122T190000
DTEND;TZID=Europe/London:20251122T190000
DTSTAMP:20260419T234943
CREATED:20251030T200949Z
LAST-MODIFIED:20251030T200949Z
UID:10000963-1763838000-1763838000@bournemouthcolosseum.com
SUMMARY:Live Music - 'Traces of Nuts'
DESCRIPTION:Live Music – ‘Traces of Nuts’\n7pm
URL:https://bournemouthcolosseum.com/event/live-music-traces-of-nuts-3/
LOCATION:Dorset
CATEGORIES:November
ATTACH;FMTTYPE=image/jpeg:https://bournemouthcolosseum.com/wp-content/uploads/2025/10/Traces-of-Nuts-e1761854879134.jpg
END:VEVENT
BEGIN:VEVENT
DTSTART;TZID=Europe/London:20251123T150000
DTEND;TZID=Europe/London:20251123T150000
DTSTAMP:20260419T234943
CREATED:20251030T201114Z
LAST-MODIFIED:20251030T201114Z
UID:10000964-1763910000-1763910000@bournemouthcolosseum.com
SUMMARY:International Rugby - England v Argentina
DESCRIPTION:International Rugby – England v Argentina\nFree entry \n\n 
URL:https://bournemouthcolosseum.com/event/international-rugby-england-v-argentina-2/
LOCATION:Colosseum Cinema Westbourne\, 14 The Arcade\, Bournemouth\, Dorset\, BH4 9AY\, United Kingdom
CATEGORIES:November
END:VEVENT
BEGIN:VEVENT
DTSTART;TZID=Europe/London:20251126T200000
DTEND;TZID=Europe/London:20251126T200000
DTSTAMP:20260419T234943
CREATED:20251030T195721Z
LAST-MODIFIED:20251030T195721Z
UID:10000959-1764187200-1764187200@bournemouthcolosseum.com
SUMMARY:Man Bites Dog (1992) - (18)
DESCRIPTION:Man Bites Dog (1992)\nComedy/Crime   1 hr 36 mins \n\nWatch trailer \nBook tickets.
URL:https://bournemouthcolosseum.com/event/man-bites-dog-1992-18/
LOCATION:Colosseum Cinema Westbourne\, 14 The Arcade\, Bournemouth\, Dorset\, BH4 9AY\, United Kingdom
CATEGORIES:November
ATTACH;FMTTYPE=image/jpeg:https://bournemouthcolosseum.com/wp-content/uploads/2025/10/Man-Bites-Dog-1992-e1761854209131.jpg
END:VEVENT
BEGIN:VEVENT
DTSTART;TZID=Europe/London:20251127T190000
DTEND;TZID=Europe/London:20251127T190000
DTSTAMP:20260419T234943
CREATED:20251030T195940Z
LAST-MODIFIED:20251030T195940Z
UID:10000961-1764270000-1764270000@bournemouthcolosseum.com
SUMMARY:Supper club night - Jacobs Ladder (1990) - (18)
DESCRIPTION:Supper club night – Jacobs Ladder (1990)\nHorror/Mystery – (1 hr 53 mins) \nOpen at 7pm. Chez Fred Fish & Chips then settle down for the movie about 8pm. \nWatch trailer\nAdvanced booking only – Book now.\n\n 
URL:https://bournemouthcolosseum.com/event/supper-club-night-jacobs-ladder-1990-18/
LOCATION:Colosseum Cinema Westbourne\, 14 The Arcade\, Bournemouth\, Dorset\, BH4 9AY\, United Kingdom
CATEGORIES:November
ATTACH;FMTTYPE=image/jpeg:https://bournemouthcolosseum.com/wp-content/uploads/2025/10/Jacobs-Ladder-1990-e1761854363514.jpg
END:VEVENT
BEGIN:VEVENT
DTSTART;TZID=Europe/London:20251128T200000
DTEND;TZID=Europe/London:20251128T200000
DTSTAMP:20260419T234943
CREATED:20251030T200206Z
LAST-MODIFIED:20251127T074846Z
UID:10000962-1764360000-1764360000@bournemouthcolosseum.com
SUMMARY:The Girl in the Cafe (2005) - (15)
DESCRIPTION:The Girl in the Cafe (2005)\nRomantic/Drama   1 hr 35 mins \n\nWatch trailer \nBook tickets.
URL:https://bournemouthcolosseum.com/event/lollipop-2024-15/
LOCATION:Colosseum Cinema Westbourne\, 14 The Arcade\, Bournemouth\, Dorset\, BH4 9AY\, United Kingdom
CATEGORIES:November
ATTACH;FMTTYPE=image/jpeg:https://bournemouthcolosseum.com/wp-content/uploads/2025/10/the-girl-in-the-cafe.jpg
END:VEVENT
BEGIN:VEVENT
DTSTART;TZID=Europe/London:20251129T200000
DTEND;TZID=Europe/London:20251129T200000
DTSTAMP:20260419T234943
CREATED:20251030T201312Z
LAST-MODIFIED:20251030T201312Z
UID:10000965-1764446400-1764446400@bournemouthcolosseum.com
SUMMARY:Booked in the Evening - Private Party
DESCRIPTION:Booked Evening – Private Party
URL:https://bournemouthcolosseum.com/event/booked-in-the-evening-private-party/
LOCATION:Colosseum Cinema Westbourne\, 14 The Arcade\, Bournemouth\, Dorset\, BH4 9AY\, United Kingdom
CATEGORIES:November
ATTACH;FMTTYPE=image/jpeg:https://bournemouthcolosseum.com/wp-content/uploads/2023/12/Capture-4-e1708866705212.jpg
END:VEVENT
BEGIN:VEVENT
DTSTART;VALUE=DATE:20251130
DTEND;VALUE=DATE:20251201
DTSTAMP:20260419T234943
CREATED:20251030T201451Z
LAST-MODIFIED:20251030T201451Z
UID:10000966-1764460800-1764547199@bournemouthcolosseum.com
SUMMARY:Booked in the afternoon - Private Party
DESCRIPTION:Booked in the afternoon – Private Party
URL:https://bournemouthcolosseum.com/event/booked-in-the-afternoon-private-party/
LOCATION:Colosseum Cinema Westbourne\, 14 The Arcade\, Bournemouth\, Dorset\, BH4 9AY\, United Kingdom
CATEGORIES:November
ATTACH;FMTTYPE=image/jpeg:https://bournemouthcolosseum.com/wp-content/uploads/2023/12/Capture-4-e1708866705212.jpg
END:VEVENT
END:VCALENDAR