BEGIN:VCALENDAR
VERSION:2.0
PRODID:-//Bournemouth Colosseum - ECPv6.15.20//NONSGML v1.0//EN
CALSCALE:GREGORIAN
METHOD:PUBLISH
X-WR-CALNAME:Bournemouth Colosseum
X-ORIGINAL-URL:https://bournemouthcolosseum.com
X-WR-CALDESC:Events for Bournemouth Colosseum
REFRESH-INTERVAL;VALUE=DURATION:PT1H
X-Robots-Tag:noindex
X-PUBLISHED-TTL:PT1H
BEGIN:VTIMEZONE
TZID:UTC
BEGIN:STANDARD
TZOFFSETFROM:+0000
TZOFFSETTO:+0000
TZNAME:UTC
DTSTART:20210101T000000
END:STANDARD
END:VTIMEZONE
BEGIN:VEVENT
DTSTART;TZID=UTC:20221110T193000
DTEND;TZID=UTC:20221110T193000
DTSTAMP:20260419T143455
CREATED:20221108T121657Z
LAST-MODIFIED:20221108T121741Z
UID:10000009-1668108600-1668108600@bournemouthcolosseum.com
SUMMARY:No Time To Die   (2021)
DESCRIPTION:Fish and chips film night \nNo Time To Die   (2021) \n£18 \nLatest James Bond film
URL:https://bournemouthcolosseum.com/event/no-time-to-die-2021/
LOCATION:Dorset
CATEGORIES:November
ATTACH;FMTTYPE=image/jpeg:https://bournemouthcolosseum.com/wp-content/uploads/2022/11/no-time-to-die-2021.jpg
END:VEVENT
BEGIN:VEVENT
DTSTART;TZID=UTC:20221111T140000
DTEND;TZID=UTC:20221111T140000
DTSTAMP:20260419T143455
CREATED:20221108T130451Z
LAST-MODIFIED:20221108T130451Z
UID:10000011-1668175200-1668175200@bournemouthcolosseum.com
SUMMARY:Man Bites Dog (1993)
DESCRIPTION:Man Bites Dog (1993) **Subtitled**. Comedy French
URL:https://bournemouthcolosseum.com/event/man-bites-dog-1993/
LOCATION:Dorset
CATEGORIES:November
ATTACH;FMTTYPE=image/jpeg:https://bournemouthcolosseum.com/wp-content/uploads/2021/02/man-bites-dog-1993.jpg
END:VEVENT
BEGIN:VEVENT
DTSTART;TZID=UTC:20221111T180000
DTEND;TZID=UTC:20221111T200000
DTSTAMP:20260419T143455
CREATED:20221108T130339Z
LAST-MODIFIED:20221111T131537Z
UID:10000010-1668189600-1668196800@bournemouthcolosseum.com
SUMMARY:HARRY SKINNER
DESCRIPTION:HARRY SKINNER Live Blues music
URL:https://bournemouthcolosseum.com/event/harryskinnerlive/
LOCATION:Dorset
CATEGORIES:November
ATTACH;FMTTYPE=image/jpeg:https://bournemouthcolosseum.com/wp-content/uploads/2022/11/live-music.jpg
END:VEVENT
BEGIN:VEVENT
DTSTART;TZID=UTC:20221118T140000
DTEND;TZID=UTC:20221118T140000
DTSTAMP:20260419T143455
CREATED:20221108T132155Z
LAST-MODIFIED:20221108T140207Z
UID:10000014-1668780000-1668780000@bournemouthcolosseum.com
SUMMARY:The Lighthouse (2019)
DESCRIPTION:2pm The Lighthouse (2019) William Defoe and Robert Pattison star
URL:https://bournemouthcolosseum.com/event/the-lighthouse-2019/
LOCATION:Dorset
CATEGORIES:November
ATTACH;FMTTYPE=image/jpeg:https://bournemouthcolosseum.com/wp-content/uploads/2021/02/the-lighthouse-2019.jpg
END:VEVENT
BEGIN:VEVENT
DTSTART;TZID=UTC:20221118T200000
DTEND;TZID=UTC:20221118T200000
DTSTAMP:20260419T143455
CREATED:20221108T132155Z
LAST-MODIFIED:20221108T140245Z
UID:10000015-1668801600-1668801600@bournemouthcolosseum.com
SUMMARY:Brian and Charles (2022)
DESCRIPTION:8pm Brian and Charles (2022) Comedy
URL:https://bournemouthcolosseum.com/event/brian-and-charles-2022/
LOCATION:Dorset
CATEGORIES:November
ATTACH;FMTTYPE=image/jpeg:https://bournemouthcolosseum.com/wp-content/uploads/2021/02/brian-and-charles-2022.jpg
END:VEVENT
BEGIN:VEVENT
DTSTART;TZID=UTC:20221119T110000
DTEND;TZID=UTC:20221119T110000
DTSTAMP:20260419T143455
CREATED:20221108T132155Z
LAST-MODIFIED:20221108T140645Z
UID:10000016-1668855600-1668855600@bournemouthcolosseum.com
SUMMARY:The Princess Bride (1987)
DESCRIPTION:11am Kids Saturday Film – The Princess Bride (1987)
URL:https://bournemouthcolosseum.com/event/the-princess-bride-1987/
LOCATION:Dorset
CATEGORIES:November
ATTACH;FMTTYPE=image/jpeg:https://bournemouthcolosseum.com/wp-content/uploads/2022/11/The-Princess-Bride-1987-scaled.jpg
END:VEVENT
BEGIN:VEVENT
DTSTART;TZID=UTC:20221119T143000
DTEND;TZID=UTC:20221119T143000
DTSTAMP:20260419T143455
CREATED:20221108T132158Z
LAST-MODIFIED:20250320T084341Z
UID:10000017-1668868200-1668868200@bournemouthcolosseum.com
SUMMARY:England V New Zealand Rugby
DESCRIPTION:2.30pm England V New Zealand Rugby
URL:https://bournemouthcolosseum.com/event/england-v-new-zealand-rugby/
LOCATION:Dorset
CATEGORIES:November
ATTACH;FMTTYPE=image/png:https://bournemouthcolosseum.com/wp-content/uploads/2022/11/live-sport.png
END:VEVENT
BEGIN:VEVENT
DTSTART;TZID=UTC:20221119T200000
DTEND;TZID=UTC:20221119T200000
DTSTAMP:20260419T143455
CREATED:20221108T132211Z
LAST-MODIFIED:20221108T140655Z
UID:10000018-1668888000-1668888000@bournemouthcolosseum.com
SUMMARY:Top Gun Maverick (2022)
DESCRIPTION:8pm Top Gun Maverick (2022) Tom Cruise remake\, Great film
URL:https://bournemouthcolosseum.com/event/top-gun-maverick-2022/
LOCATION:Dorset
CATEGORIES:November
ATTACH;FMTTYPE=image/jpeg:https://bournemouthcolosseum.com/wp-content/uploads/2022/11/Top-Gun-Maverick-2022-scaled.jpg
END:VEVENT
BEGIN:VEVENT
DTSTART;TZID=UTC:20221121T130000
DTEND;TZID=UTC:20221121T130000
DTSTAMP:20260419T143455
CREATED:20221108T132213Z
LAST-MODIFIED:20221111T131826Z
UID:10000019-1669035600-1669035600@bournemouthcolosseum.com
SUMMARY:England V Iran International World Cup
DESCRIPTION:1 pm England V Iran International World Cup
URL:https://bournemouthcolosseum.com/event/england-v-iran-international-world-cup/
LOCATION:Dorset
CATEGORIES:November
ATTACH;FMTTYPE=image/png:https://bournemouthcolosseum.com/wp-content/uploads/2022/11/live-sport.png
END:VEVENT
BEGIN:VEVENT
DTSTART;TZID=UTC:20221124T193000
DTEND;TZID=UTC:20221124T193000
DTSTAMP:20260419T143455
CREATED:20221108T132213Z
LAST-MODIFIED:20221108T140807Z
UID:10000020-1669318200-1669318200@bournemouthcolosseum.com
SUMMARY:Intrusion (2021)
DESCRIPTION:7.30pm Fish and chips & film night – Intrusion (2021) £18 p/p
URL:https://bournemouthcolosseum.com/event/intrusion-2021/
LOCATION:Dorset
CATEGORIES:November
ATTACH;FMTTYPE=image/jpeg:https://bournemouthcolosseum.com/wp-content/uploads/2022/11/Intrusion-2021.jpg
END:VEVENT
BEGIN:VEVENT
DTSTART;TZID=UTC:20221125T140000
DTEND;TZID=UTC:20221125T140000
DTSTAMP:20260419T143455
CREATED:20221108T132214Z
LAST-MODIFIED:20221108T140813Z
UID:10000021-1669384800-1669384800@bournemouthcolosseum.com
SUMMARY:The Keys To The House (2004)
DESCRIPTION:2pm The Keys To The House (2004)*Subtitled* French
URL:https://bournemouthcolosseum.com/event/the-keys-to-the-house-2004/
LOCATION:Dorset
CATEGORIES:November
ATTACH;FMTTYPE=image/jpeg:https://bournemouthcolosseum.com/wp-content/uploads/2022/11/The-Keys-To-The-House-2004.jpg
END:VEVENT
BEGIN:VEVENT
DTSTART;TZID=UTC:20221125T193000
DTEND;TZID=UTC:20221125T193000
DTSTAMP:20260419T143455
CREATED:20221108T132234Z
LAST-MODIFIED:20221111T131810Z
UID:10000022-1669404600-1669404600@bournemouthcolosseum.com
SUMMARY:England V USA World Cup
DESCRIPTION:7 pm England V USA World Cup
URL:https://bournemouthcolosseum.com/event/england-v-usa-world-cup/
LOCATION:Dorset
CATEGORIES:November
ATTACH;FMTTYPE=image/png:https://bournemouthcolosseum.com/wp-content/uploads/2022/11/live-sport.png
END:VEVENT
BEGIN:VEVENT
DTSTART;TZID=UTC:20221126T110000
DTEND;TZID=UTC:20221126T110000
DTSTAMP:20260419T143455
CREATED:20221108T132234Z
LAST-MODIFIED:20221108T140819Z
UID:10000023-1669460400-1669460400@bournemouthcolosseum.com
SUMMARY:Jungle Cruise (2021)
DESCRIPTION:11am Kids Saturday Film – Jungle cruise (2021)
URL:https://bournemouthcolosseum.com/event/jungle-cruise-2021/
LOCATION:Dorset
CATEGORIES:November
ATTACH;FMTTYPE=image/jpeg:https://bournemouthcolosseum.com/wp-content/uploads/2022/11/Jungle-Cruise.jpg
END:VEVENT
BEGIN:VEVENT
DTSTART;TZID=UTC:20221126T140000
DTEND;TZID=UTC:20221126T140000
DTSTAMP:20260419T143455
CREATED:20221108T132234Z
LAST-MODIFIED:20221108T140846Z
UID:10000024-1669471200-1669471200@bournemouthcolosseum.com
SUMMARY:The Commissar (1967)
DESCRIPTION:2pm The Commissar (1967) * Subtitled* Russian
URL:https://bournemouthcolosseum.com/event/the-commissar-1967/
LOCATION:Dorset
CATEGORIES:November
ATTACH;FMTTYPE=image/jpeg:https://bournemouthcolosseum.com/wp-content/uploads/2022/11/The-Commissar-1967.jpg
END:VEVENT
BEGIN:VEVENT
DTSTART;TZID=UTC:20221126T170000
DTEND;TZID=UTC:20221126T170000
DTSTAMP:20260419T143455
CREATED:20221108T132235Z
LAST-MODIFIED:20221111T131752Z
UID:10000025-1669482000-1669482000@bournemouthcolosseum.com
SUMMARY:England V South Africa Rugby
DESCRIPTION:5pm England V South Africa Rugby
URL:https://bournemouthcolosseum.com/event/england-v-south-africa-rugby/
LOCATION:Dorset
CATEGORIES:November
ATTACH;FMTTYPE=image/png:https://bournemouthcolosseum.com/wp-content/uploads/2022/11/live-sport.png
END:VEVENT
BEGIN:VEVENT
DTSTART;TZID=UTC:20221129T190000
DTEND;TZID=UTC:20221129T190000
DTSTAMP:20260419T143455
CREATED:20221108T132235Z
LAST-MODIFIED:20221111T150007Z
UID:10000026-1669748400-1669748400@bournemouthcolosseum.com
SUMMARY:ENGLAND V WALES World Cup
DESCRIPTION:7pm ENGLAND V WALES World Cup \n  \nIT FINAL ihfgudhfjas \n  \nsfakhfsdh \n  \nsjaifoisajdfpoas
URL:https://bournemouthcolosseum.com/event/england-v-wales-world-cup/
LOCATION:Dorset
CATEGORIES:November
ATTACH;FMTTYPE=image/png:https://bournemouthcolosseum.com/wp-content/uploads/2022/11/live-sport.png
END:VEVENT
BEGIN:VEVENT
DTSTART;TZID=UTC:20230323T200000
DTEND;TZID=UTC:20230323T200000
DTSTAMP:20260419T143455
CREATED:20230213T141509Z
LAST-MODIFIED:20230227T142619Z
UID:10000183-1679601600-1679601600@bournemouthcolosseum.com
SUMMARY:The Loft  (2017)
DESCRIPTION:The Loft (2017 \, Thriller) 7.30pm Meal\, 8pm Film \n  \n£18.00 pp
URL:https://bournemouthcolosseum.com/event/the-loft-2017/
LOCATION:Dorset
CATEGORIES:March,November
ATTACH;FMTTYPE=image/jpeg:https://bournemouthcolosseum.com/wp-content/uploads/2023/02/the-loft-2017.jpg
END:VEVENT
BEGIN:VEVENT
DTSTART;TZID=UTC:20230330T200000
DTEND;TZID=UTC:20230330T200000
DTSTAMP:20260419T143455
CREATED:20230213T141525Z
LAST-MODIFIED:20230310T102419Z
UID:10000187-1680206400-1680206400@bournemouthcolosseum.com
SUMMARY:The Lives of others (2006)
DESCRIPTION:8pm Fish & Chips.  \nThe Lives of others (2006) * German thriller \, *Subtitled* Food 7.30pm \n  \n£18.00 pp
URL:https://bournemouthcolosseum.com/event/the-lives-of-others-2006/
LOCATION:Dorset
CATEGORIES:March,November
ATTACH;FMTTYPE=image/jpeg:https://bournemouthcolosseum.com/wp-content/uploads/2023/02/The-Lives-of-others-2006.jpg
END:VEVENT
BEGIN:VEVENT
DTSTART;TZID=UTC:20230401T190000
DTEND;TZID=UTC:20230401T230000
DTSTAMP:20260419T143455
CREATED:20230323T134550Z
LAST-MODIFIED:20230323T134550Z
UID:10000190-1680375600-1680390000@bournemouthcolosseum.com
SUMMARY:BOOKED - PRIVATE PARTY
DESCRIPTION:BOOKED – PRIVATE PARTY
URL:https://bournemouthcolosseum.com/event/booked-private-party-3/
LOCATION:Dorset
CATEGORIES:April,November
END:VEVENT
BEGIN:VEVENT
DTSTART;TZID=UTC:20230402T170000
DTEND;TZID=UTC:20230402T193000
DTSTAMP:20260419T143455
CREATED:20230323T134551Z
LAST-MODIFIED:20230403T100007Z
UID:10000191-1680454800-1680463800@bournemouthcolosseum.com
SUMMARY:‘Living’ (2022)
DESCRIPTION:‘Living’ (2022) British made drama
URL:https://bournemouthcolosseum.com/event/living-2022/
LOCATION:Dorset
CATEGORIES:April,November
ATTACH;FMTTYPE=image/jpeg:https://bournemouthcolosseum.com/wp-content/uploads/2023/03/‘Living-2022.jpg
END:VEVENT
BEGIN:VEVENT
DTSTART;TZID=UTC:20230402T193000
DTEND;TZID=UTC:20230402T230000
DTSTAMP:20260419T143455
CREATED:20230323T134551Z
LAST-MODIFIED:20230403T095849Z
UID:10000192-1680463800-1680476400@bournemouthcolosseum.com
SUMMARY:‘Blinded by the light’(2019)
DESCRIPTION:‘Blinded by the light’(2019)British comedy drama. Recommended.
URL:https://bournemouthcolosseum.com/event/blinded-by-the-light2019/
LOCATION:Dorset
CATEGORIES:April,November
ATTACH;FMTTYPE=image/jpeg:https://bournemouthcolosseum.com/wp-content/uploads/2023/03/‘Blinded-by-the-light2019.jpg
END:VEVENT
BEGIN:VEVENT
DTSTART;TZID=UTC:20230407T200000
DTEND;TZID=UTC:20230407T220000
DTSTAMP:20260419T143455
CREATED:20230323T134552Z
LAST-MODIFIED:20230403T101305Z
UID:10000194-1680897600-1680904800@bournemouthcolosseum.com
SUMMARY:‘All quiet on the western front’ (2022)
DESCRIPTION:‘All quiet on the western front’ (2022) Award winning
URL:https://bournemouthcolosseum.com/event/all-quiet-on-the-western-front-2022/
LOCATION:Dorset
CATEGORIES:April,November
ATTACH;FMTTYPE=image/jpeg:https://bournemouthcolosseum.com/wp-content/uploads/2023/03/‘All-quiet-on-the-western-front-2022.jpg
END:VEVENT
BEGIN:VEVENT
DTSTART;TZID=UTC:20230408T200000
DTEND;TZID=UTC:20230408T220000
DTSTAMP:20260419T143455
CREATED:20230323T134554Z
LAST-MODIFIED:20230403T095457Z
UID:10000195-1680984000-1680991200@bournemouthcolosseum.com
SUMMARY:‘Monty Python & the Holy Grail’ (1975)
DESCRIPTION:‘Monty Python & the Holy Grail’ (1975) Cult British comedy
URL:https://bournemouthcolosseum.com/event/monty-python-the-holy-grail-1975/
LOCATION:Dorset
CATEGORIES:April,November
ATTACH;FMTTYPE=image/jpeg:https://bournemouthcolosseum.com/wp-content/uploads/2023/03/‘Monty-Python-the-Holy-Grail-1975.jpg
END:VEVENT
BEGIN:VEVENT
DTSTART;TZID=UTC:20230409T190000
DTEND;TZID=UTC:20230409T213000
DTSTAMP:20260419T143455
CREATED:20230323T134554Z
LAST-MODIFIED:20230403T101253Z
UID:10000196-1681066800-1681075800@bournemouthcolosseum.com
SUMMARY:‘Everything everywhere all at once’ (2022)
DESCRIPTION:‘Everything everywhere all at once’ (2022) * Subtitled* Bonkers
URL:https://bournemouthcolosseum.com/event/everything-everywhere-all-at-once-2022-4/
LOCATION:Dorset
CATEGORIES:April,November
ATTACH;FMTTYPE=image/jpeg:https://bournemouthcolosseum.com/wp-content/uploads/2023/03/Everything_Everywhere_All_at_Once.jpg
END:VEVENT
BEGIN:VEVENT
DTSTART;TZID=UTC:20230413T193000
DTEND;TZID=UTC:20230413T213000
DTSTAMP:20260419T143455
CREATED:20230323T134554Z
LAST-MODIFIED:20230403T101243Z
UID:10000197-1681414200-1681421400@bournemouthcolosseum.com
SUMMARY:FISH & CHIPS ‘Pulp Fiction”(1994)
DESCRIPTION:FISH & CHIPS & ‘Pulp Fiction”(1994) Comedy crime drama £18 p/p
URL:https://bournemouthcolosseum.com/event/fish-chips-pulp-fiction1994/
LOCATION:Dorset
CATEGORIES:April,November
ATTACH;FMTTYPE=image/jpeg:https://bournemouthcolosseum.com/wp-content/uploads/2023/03/‘Pulp-Fiction1994.jpg
END:VEVENT
BEGIN:VEVENT
DTSTART;TZID=UTC:20230414T200000
DTEND;TZID=UTC:20230414T213000
DTSTAMP:20260419T143455
CREATED:20230323T134555Z
LAST-MODIFIED:20230403T101216Z
UID:10000198-1681502400-1681507800@bournemouthcolosseum.com
SUMMARY:‘No country for old men’ (2007)
DESCRIPTION:‘No country for old men’ (2007) USA neo-Western crime thriller
URL:https://bournemouthcolosseum.com/event/no-country-for-old-men-2007/
LOCATION:Dorset
CATEGORIES:April,November
ATTACH;FMTTYPE=image/jpeg:https://bournemouthcolosseum.com/wp-content/uploads/2023/03/‘No-country-for-old-men-2007.jpg
END:VEVENT
BEGIN:VEVENT
DTSTART;TZID=UTC:20230415T140000
DTEND;TZID=UTC:20230415T160000
DTSTAMP:20260419T143455
CREATED:20230323T134555Z
LAST-MODIFIED:20230403T095205Z
UID:10000199-1681567200-1681574400@bournemouthcolosseum.com
SUMMARY:‘Elvis’ (2022)
DESCRIPTION:‘Elvis’ (2022) Epic biographical drama
URL:https://bournemouthcolosseum.com/event/elvis-2022-4/
LOCATION:Dorset
CATEGORIES:April,November
ATTACH;FMTTYPE=image/jpeg:https://bournemouthcolosseum.com/wp-content/uploads/2023/02/Elvis-2022.jpg
END:VEVENT
BEGIN:VEVENT
DTSTART;TZID=UTC:20230415T200000
DTEND;TZID=UTC:20230415T220000
DTSTAMP:20260419T143455
CREATED:20230323T134611Z
LAST-MODIFIED:20230403T094926Z
UID:10000200-1681588800-1681596000@bournemouthcolosseum.com
SUMMARY:‘Elvis’ (2022)
DESCRIPTION:‘Elvis’ (2022) Epic biographical drama
URL:https://bournemouthcolosseum.com/event/elvis-2022-5/
LOCATION:Dorset
CATEGORIES:April,November
ATTACH;FMTTYPE=image/jpeg:https://bournemouthcolosseum.com/wp-content/uploads/2023/03/‘Elvis-2022.jpg
END:VEVENT
BEGIN:VEVENT
DTSTART;TZID=UTC:20230416T190000
DTEND;TZID=UTC:20230416T213000
DTSTAMP:20260419T143455
CREATED:20230323T134611Z
LAST-MODIFIED:20230403T101157Z
UID:10000201-1681671600-1681680600@bournemouthcolosseum.com
SUMMARY:‘ The sixth sense” (1999)
DESCRIPTION:‘ The sixth sense” (1999) American psychological thriller
URL:https://bournemouthcolosseum.com/event/the-sixth-sense-1999/
LOCATION:Dorset
CATEGORIES:April,November
ATTACH;FMTTYPE=image/jpeg:https://bournemouthcolosseum.com/wp-content/uploads/2023/03/‘-The-sixth-sense-1999.jpg
END:VEVENT
BEGIN:VEVENT
DTSTART;TZID=UTC:20230420T193000
DTEND;TZID=UTC:20230420T220000
DTSTAMP:20260419T143455
CREATED:20230323T134612Z
LAST-MODIFIED:20230403T094839Z
UID:10000202-1682019000-1682028000@bournemouthcolosseum.com
SUMMARY:FISH & CHIPS ‘Silent running’ (1972)
DESCRIPTION:FISH & CHIPS & ‘Silent running’ (1972) Sci-fi classic £18 p/p
URL:https://bournemouthcolosseum.com/event/fish-chips-silent-running-1972/
LOCATION:Dorset
CATEGORIES:April,November
ATTACH;FMTTYPE=image/jpeg:https://bournemouthcolosseum.com/wp-content/uploads/2023/03/‘Silent-running-1972.jpg
END:VEVENT
END:VCALENDAR